Workbook

Sheet DOTERRA COLOMBIA
A1: CODIGO | B1: PRODUCTO | C1: UNIDAD | D1: PV | E1: PRECIO MEMBRESIA | F1: PRECIO AL PUBLICO | G1: PRECIO POR GOTA
A2: 60205988 | B2: ABETO DE DOUGLAS | C2: 5 ml | D2: 20.5 | E2: 80000 | F2: 106667 | G2: =F2/80 -> 1333.3375
A3: 60210411 | B3: ABETO NEGRO | C3: 5 ml | D3: 19 | E3: 74000 | F3: 98667 | G3: =F3/80 -> 1233.3375
A4: 60205981 | B4: ABETO SIBERIANO | C4: 15 ml | D4: 21.5 | E4: 82000 | F4: 109333 | G4: =F4/250 -> 437.332
A5: 60208892 | B5: ACONDICIONADOR | C5: 250 ml | D5: 24 | E5: 94000 | F5: 125333
A6: 60211380 | B6: ADAPTIV | C6: 15 ml | D6: 40.5 | E6: 155000 | F6: 206667 | G6: =F6/250 -> 826.668
A7: 60210433 | B7: ADAPTIV TOUCH | C7: 10 ml. | D7: 21.5 | E7: 82000 | F7: 109333
A8: 60217493 | B8: Air-X™ | C8: 15 ml | D8: 31 | E8: 114000 | F8: 152000
A9: 60201585 | B9: ALBAHACA | C9: 15 ml | D9: 25.5 | E9: 98000 | F9: 130667 | G9: =F9/250 -> 522.668
A10: 60210529 | B10: ANILLO MULTIBANDA CELULAR DISEÑO 1 | C10: 1 pza | D10: 0 | E10: 15000 | F10: 20000
A11: 60210530 | B11: ANILLO MULTIBANDA CELULAR DISEÑO 2 | C11: 1 pza | D11: 0 | E11: 15000 | F11: 20000
A12: 60207676 | B12: ARBORVITAE | C12: 5 ml | D12: 23.5 | E12: 90000 | F12: 120000 | G12: =F12/80 -> 1500
A13: 60201747 | B13: AROMATOUCH | C13: 15 ml | D13: 30 | E13: 115000 | F13: 153333 | G13: =F13/250 -> 613.332
A14: 60201735 | B14: AROMATOUCH MINI | C14: 5 ml | D14: 10 | E14: 46000 | F14: 61333 | G14: =F14/80 -> 766.6625
A15: 60201727 | B15: BALANCE | C15: 15 ml | D15: 22.5 | E15: 86000 | F15: 114667 | G15: =F15/250 -> 458.668
A16: 60201699 | B16: BALANCE MINI | C16: 5 ml | D16: 7.5 | E16: 34000 | F16: 45333 | G16: =F16/80 -> 566.6625
A17: 60215969 | B17: BALANCE TOUCH | C17: 10 ml. | D17: 15.5 | E17: 61000 | F17: =E17/0.75 -> 81333.333
A18: 60201587 | B18: BAYA DE ENEBRO | C18: 5 ml | D18: 20 | E18: 78000 | F18: 104000 | G18: =F18/80 -> 1300
A19: 60211384 | B19: BEAUTIFUL BODY MIST | C19: 4.2 oz/ 125ml. | D19: 20 | E19: 81000 | F19: =E19/0.75 -> 108000
A20: 60210334 | B20: BEAUTIFUL TOUCH 10ML | C20: 10 ml. | D20: 25.5 | E20: 98000 | F20: 130667
A21: 60205984 | B21: BERGAMOTA | C21: 15 ml | D21: 32 | E21: 123000 | F21: 164000 | G21: =F21/250 -> 656
A22: 60213761 | B22: BOTELLAS DE MUESTRA | C22: 12 unidades | D22: 0 | E22: 21000 | F22: =E22/0.75 -> 28000
A23: 60214357 | B23: BOLSA PORTA ACEITES | C23: 1 pza | D23: 0 | E23: 25000 | F23: 33333
A24: 60210507 | B24: BOLSA REUTILIZABLE 1 | C24: 1 pza | D24: 0 | E24: 21000 | F24: 28000
A25: 60210508 | B25: BOLSA REUTILIZABLE 2 | C25: 1 pza | D25: 0 | E25: 21000 | F25: 28000
A26: 60211348 | B26: BRAVE | C26: 10 ml. | D26: 22.5 | E26: 86000 | F26: =E26/0.75 -> 114666.67
A27: 60201687 | B27: BREATHE | C27: 15 ml | D27: 23.5 | E27: 90000 | F27: =E27/0.75 -> 120000 | G27: =F27/250 -> 480 | H27: =F27/1.19 -> 100840.34
A28: 60213004 | B28: BREATHE DROPS | C28: 30 caramelos | D28: 11 | E28: 68000 | F28: =E28/0.75 -> 90666.667
A29: 60201688 | B29: BREATHE MINI | C29: 5 ml | D29: 7.5 | E29: 36000 | F29: 48000 | G29: =F29/80 -> 600
A30: 60201719 | B30: BREATHE BARRA VAPOR | C30: 1 Barra | D30: 5.5 | E30: 35000 | F30: 46667
A31: 60209820 | B31: BREATHE DROPS | C31: 30 caramelos | D31: 10.5 | E31: 64500 | F31: =E31/0.75 -> 86000
A32: 60201648 | B32: BREATHE TOUCH | C32: 10 ml. | D32: 15 | E32: 57000 | F32: =E32/0.75 -> 76000
A33: 60211349 | B33: CALMER | C33: 10 ml. | D33: 20.5 | E33: 78000 | F33: 104000
A34: 60205969 | B34: CANELA | C34: 5 ml | D34: 25 | E34: 98000 | F34: 130667 | G34: =F34/80 -> 1633.3375
A35: 60214160 | B35: CANGURO DEPORTIVO | C35: 1 pza | D35: 0 | E35: 35000 | F35: 46667
A36: 60201713 | B36: CARDAMOMO | C36: 5 ml | D36: 27 | E36: 106000 | F36: 141333 | G36: =F36/80 -> 1766.6625
A37: 60205986 | B37: CASIA | C37: 15 ml | D37: 20.5 | E37: 78000 | F37: 104000 | G37: =F37/250 -> 416
A38: 60217907 | B38: CAPSULAS VEGETALES | C38: 120 cápsulas | D38: 0 | E38: 37000 | F38: 49333
A39: 60211196 | B39: CATALOGO DOTERRA | C39: 1 Catalogo | D39: 0 | E39: 5320 | F39: 7227
A40: 60208140 | B40: CEDRO | C40: 15 ml | D40: 14 | E40: 53000 | F40: 70667 | G40: =F40/250 -> 282.668
...

Sheet DOTERRA ESTADOS UNIDOS
A1: LISTA DE PRECIOS PRODUCTOS DOTERRA USA
A2: CATEGORIA | B2: PRODUCTO | C2: CONTENIDO | D2: PUBLICO DÓLAR | E2: MEMBRESIA DÓLAR | F2: PUBLICO PESOS | G2: MEMBRESIA PESOS | H2: PV
A3: ACEITES ESENCIALES | B3: Arborvitae | C3: 5 mL | D3: 29.33 | E3: 22 | F3: =($D3+($D3*0.07))*$K$3 -> 128670.71 | G3: =($E3+($E3*0.07))*$K$3 -> 96514 | H3: 22 | J3: TASA CAMBIO | K3: 4100
A4: ACEITES ESENCIALES | B4: Basil | C4: 15 mL | D4: 40 | E4: 30 | F4: =($D4+($D4*0.07))*$K$3 -> 175480 | G4: =($E4+($E4*0.07))*$K$3 -> 131610 | H4: 30 | J4: ENVIO POR PRODUCTO APROX | K4: 15000
A5: ACEITES ESENCIALES | B5: Bergamot | C5: 15 mL | D5: 48 | E5: 36 | F5: =($D5+($D5*0.07))*$K$3 -> 210576 | G5: =($E5+($E5*0.07))*$K$3 -> 157932 | H5: 36
A6: ACEITES ESENCIALES | B6: Black Pepper | C6: 5 mL | D6: 29.33 | E6: 22 | F6: =($D6+($D6*0.07))*$K$3 -> 128670.71 | G6: =($E6+($E6*0.07))*$K$3 -> 96514 | H6: 22 | J6: NOTA:ESTOS PRODUCTOS NO INCLUYEN VALOR DE ENVIO A COLOMBIA NI AL CASILLERO DE ESTADOS UNIDOS
A7: ACEITES ESENCIALES | B7: Black Spruce | C7: 5 mL | D7: 26.67 | E7: 20 | F7: =($D7+($D7*0.07))*$K$3 -> 117001.29 | G7: =($E7+($E7*0.07))*$K$3 -> 87740 | H7: 20
A8: ACEITES ESENCIALES | B8: Blue Tansy | C8: 5 mL | D8: 113.33 | E8: 85 | F8: =($D8+($D8*0.07))*$K$3 -> 497178.71 | G8: =($E8+($E8*0.07))*$K$3 -> 372895 | H8: 80
A9: ACEITES ESENCIALES | B9: Cardamom | C9: 5 mL | D9: 37.37 | E9: 28 | F9: =($D9+($D9*0.07))*$K$3 -> 163942.19 | G9: =($E9+($E9*0.07))*$K$3 -> 122836 | H9: 28
A10: ACEITES ESENCIALES | B10: Cassia | C10: 15 mL | D10: 28 | E10: 21 | F10: =($D10+($D10*0.07))*$K$3 -> 122836 | G10: =($E10+($E10*0.07))*$K$3 -> 92127 | H10: 21
A11: ACEITES ESENCIALES | B11: Cedarwood | C11: 15 mL | D11: 18 | E11: 13.5 | F11: =($D11+($D11*0.07))*$K$3 -> 78966 | G11: =($E11+($E11*0.07))*$K$3 -> 59224.5 | H11: 13.5
A12: ACEITES ESENCIALES | B12: Celery Seed | C12: 15 mL | D12: 48 | E12: 36 | F12: =($D12+($D12*0.07))*$K$3 -> 210576 | G12: =($E12+($E12*0.07))*$K$3 -> 157932 | H12: 36
A13: ACEITES ESENCIALES | B13: Cilantro | C13: 15 mL | D13: 34.67 | E13: 26 | F13: =($D13+($D13*0.07))*$K$3 -> 152097.29 | G13: =($E13+($E13*0.07))*$K$3 -> 114062 | H13: 26
A14: ACEITES ESENCIALES | B14: Cinnamon Bark | C14: 5 mL | D14: 38.67 | E14: 29 | F14: =($D14+($D14*0.07))*$K$3 -> 169645.29 | G14: =($E14+($E14*0.07))*$K$3 -> 127223 | H14: 29
A15: ACEITES ESENCIALES | B15: Citronella | C15: 15 mL | D15: 26.67 | E15: 20 | F15: =($D15+($D15*0.07))*$K$3 -> 117001.29 | G15: =($E15+($E15*0.07))*$K$3 -> 87740 | H15: 20
A16: ACEITES ESENCIALES | B16: Clary Calm | C16: 10 mL | D16: 41.33 | E16: 31 | F16: =($D16+($D16*0.07))*$K$3 -> 181314.71 | G16: =($E16+($E16*0.07))*$K$3 -> 135997 | H16: 31
A17: ACEITES ESENCIALES | B17: Clary Sage | C17: 15 mL | D17: 52 | E17: 39 | F17: =($D17+($D17*0.07))*$K$3 -> 228124 | G17: =($E17+($E17*0.07))*$K$3 -> 171093 | H17: 39
A18: ACEITES ESENCIALES | B18: Clove | C18: 15 mL | D18: 24 | E18: 18 | F18: =($D18+($D18*0.07))*$K$3 -> 105288 | G18: =($E18+($E18*0.07))*$K$3 -> 78966 | H18: 18
... A124: MEZCLAS ESENCIALES | B124: dōTERRA Passion® Touch | C124: 10 mL | D124: 37.33 | E124: 28 | F124: =($D124+($D124*0.07))*$K$3 -> 163766.71 | G124: =($E124+($E124*0.07))*$K$3 -> 122836 | H124: 28
A125: MEZCLAS ESENCIALES | B125: PastTense® Roll On | C125: 10 mL | D125: 26 | E125: 19.5 | F125: =($D125+($D125*0.07))*$K$3 -> 114062 | G125: =($E125+($E125*0.07))*$K$3 -> 85546.5 | H125: 19,5
A126: MEZCLAS ESENCIALES | B126: Past Tense | C126: 15 mL | D126: 40 | E126: 30 | F126: =($D126+($D126*0.07))*$K$3 -> 175480 | G126: =($E126+($E126*0.07))*$K$3 -> 131610 | H126: 30
A127: MEZCLAS ESENCIALES | B127: dōTERRA Peace® | C127: 5 mL | D127: 42.67 | E127: 32 | F127: =($D127+($D127*0.07))*$K$3 -> 187193.29 | G127: =($E127+($E127*0.07))*$K$3 -> 140384 | H127: 32
A128: MEZCLAS ESENCIALES | B128: dōTERRA Peace® Touch | C128: 10 mL | D128: 28 | E128: 21 | F128: =($D128+($D128*0.07))*$K$3 -> 122836 | G128: =($E128+($E128*0.07))*$K$3 -> 92127 | H128: 21
A129: MEZCLAS ESENCIALES | B129: Purify | C129: 15 mL | D129: 29.33 | E129: 22 | F129: =($D129+($D129*0.07))*$K$3 -> 128670.71 | G129: =($E129+($E129*0.07))*$K$3 -> 96514 | H129: 22
A130: MEZCLAS ESENCIALES | B130: Rescuer | C130: 10 mL | D130: 22 | E130: 16.5 | F130: =($D130+($D130*0.07))*$K$3 -> 96514 | G130: =($E130+($E130*0.07))*$K$3 -> 72385.5 | H130: 16.5
A131: MEZCLAS ESENCIALES | B131: dōTERRA Serenity® | C131: 15 mL | D131: 48 | E131: 36 | F131: =($D131+($D131*0.07))*$K$3 -> 210576 | G131: =($E131+($E131*0.07))*$K$3 -> 157932 | H131: 36
A132: MEZCLAS ESENCIALES | B132: dōTERRA Serenity® Softgels | C132: 60 Sgls | D132: 30.67 | E132: 23 | F132: =($D132+($D132*0.07))*$K$3 -> 134549.29 | G132: =($E132+($E132*0.07))*$K$3 -> 100901 | H132: 18
A133: MEZCLAS ESENCIALES | B133: dōTERRA Serenity® Combo Pack | C133: Btl+Sgls | D133: 60 | E133: 45 | F133: =($D133+($D133*0.07))*$K$3 -> 263220 | G133: =($E133+($E133*0.07))*$K$3 -> 197415 | H133: 40
A134: MEZCLAS ESENCIALES | B134: Slim & Sassy® | C134: 15 mL | D134: 34.67 | E134: 26 | F134: =($D134+($D134*0.07))*$K$3 -> 152097.29 | G134: =($E134+($E134*0.07))*$K$3 -> 114062 | H134: 26
A135: MEZCLAS ESENCIALES | B135: Slim & Sassy® Softgels | C135: 90 Sgls | D135: 48 | E135: 36 | F135: =($D135+($D135*0.07))*$K$3 -> 210576 | G135: =($E135+($E135*0.07))*$K$3 -> 157932 | H135: 31,5
A136: MEZCLAS ESENCIALES | B136: Steady | C136: 10 mL | D136: 22 | E136: 16.5 | F136: =($D136+($D136*0.07))*$K$3 -> 96514 | G136: =($E136+($E136*0.07))*$K$3 -> 72385.5 | H136: 16.5
A137: MEZCLAS ESENCIALES | B137: Stronger | C137: 10 mL | D137: 21.33 | E137: 16 | F137: =($D137+($D137*0.07))*$K$3 -> 93574.71 | G137: =($E137+($E137*0.07))*$K$3 -> 70192 | H137: 16
A138: MEZCLAS ESENCIALES | B138: Tamer | C138: 10 mL | D138: 22 | E138: 16.5 | F138: =($D138+($D138*0.07))*$K$3 -> 96514 | G138: =($E138+($E138*0.07))*$K$3 -> 72385.5 | H138: 16.5
A139: MEZCLAS ESENCIALES | B139: TerraShield® | C139: 15 mL | D139: 17.33 | E139: 13 | F139: =($D139+($D139*0.07))*$K$3 -> 76026.71 | G139: =($E139+($E139*0.07))*$K$3 -> 57031 | H139: 13
A140: MEZCLAS ESENCIALES | B140: TerraShield® Spray | C140: 30 mL | D140: 26.67 | E140: 20 | F140: =($D140+($D140*0.07))*$K$3 -> 117001.29 | G140: =($E140+($E140*0.07))*$K$3 -> 87740 | H140: 18
A141: MEZCLAS ESENCIALES | B141: Thinker | C141: 10 mL | D141: 23.33 | E141: 17.5 | F141: =($D141+($D141*0.07))*$K$3 -> 102348.71 | G141: =($E141+($E141*0.07))*$K$3 -> 76772.5 | H141: 17.5
A142: MEZCLAS ESENCIALES | B142: TriEase® Blend Softgels | C142: 60 Sgls | D142: 34 | E142: 25 | F142: =($D142+($D142*0.07))*$K$3 -> 149158 | G142: =($E142+($E142*0.07))*$K$3 -> 109675 | H142: 22
A143: MEZCLAS ESENCIALES | B143: Whisper® | C143: 5 mL | D143: 32 | E143: 24 | F143: =($D143+($D143*0.07))*$K$3 -> 140384 | G143: =($E143+($E143*0.07))*$K$3 -> 105288 | H143: 24
A144: MEZCLAS ESENCIALES | B144: Whisper®Touch | C144: 10 mL | D144: 37.33 | E144: 28 | F144: =($D144+($D144*0.07))*$K$3 -> 163766.71 | G144: =($E144+($E144*0.07))*$K$3 -> 122836 | H144: 28
A145: MEZCLAS ESENCIALES | B145: Yarrow Pom | C145: 30 mL | D145: 130.67 | E145: 98 | F145: =($D145+($D145*0.07))*$K$3 -> 573249.29 | G145: =($E145+($E145*0.07))*$K$3 -> 429926 | H145: 98
...

Sheet COTIZACION MEZCLAS
A1: MEZCLA PARA ARTRITIS PERROS
A2: ACEITE ESENCIAL DOTERRA | B2: GOTAS | C2: PRECIO x GOTA CLIENTE | D2: COSTO
A3: INCIENSO | B3: 4 | C3: =VLOOKUP($A3,'DOTERRA COLOMBIA'!$B$2:$G$219,6,0) -> 1530.668 | D3: =C3*B3 -> 6122.672
A4: LEMONGRASS | B4: 2 | C4: =VLOOKUP($A4,'DOTERRA COLOMBIA'!$B$2:$G$219,6,0) -> 218.668 | D4: =C4*B4 -> 437.336
A5: COPAIBA | B5: 6 | C5: =VLOOKUP($A5,'DOTERRA COLOMBIA'!$B$2:$G$219,6,0) -> 688 | D5: =C5*B5 -> 4128
A6: MEJORANA | B6: 4 | C6: =VLOOKUP($A6,'DOTERRA COLOMBIA'!$B$2:$G$219,6,0) -> 416 | D6: =C6*B6 -> 1664
A7: COCO FRACCIONADO | B7: 10 | C7: =VLOOKUP($A7,'DOTERRA COLOMBIA'!$B$2:$G$219,6,0) -> 568.11304 | D7: =C7*B7 -> 5681.1304
A8: ROLLON - 10ml | D8: 5000
A9: SUBTOTAL | D9: =SUM(D3:D8) -> 23033.138
A10: (+)GANANCIA ADICIONAL
A11: (+) ENVIO | D11: 10000
A12: TOTAL | D12: =D9+D10+D11 -> 33033.138
